BEGIN:VCALENDAR
VERSION:2.0
PRODID:-//wp-events-plugin.com//7.2.3.1//EN
TZID:Europe/Brussels
X-WR-TIMEZONE:Europe/Brussels
BEGIN:VEVENT
UID:5601@toscanzahoeve.be
DTSTART;TZID=Europe/Brussels:20261212T100000
DTEND;TZID=Europe/Brussels:20261212T160000
DTSTAMP:20260208T193909Z
URL:https://www.toscanzahoeve.be/events/enneagram-voor-mens-en-dier-6/
SUMMARY:Enneagram voor mens en dier
DESCRIPTION:Deze dag omvat de basis om te begrijpen hoe het enneagram werkt
  en is in het bijzonder nuttig voor beginners. Zoals je zult zien\, zijn s
 lechts een paar simpele concepten nodig om te beginnen met je reis van zel
 fontdekking. Het enneagram daarentegen is bijzonder subtiel en complex\, w
 at je zal merken naarmate je het meer in je leven gebruikt.\n\nHet enneagr
 am is een verzameling van negen verschillende persoonlijkheidstypen\, waar
 bij elk nummer op het enneagram een type weergeeft. Het is normaal om een 
 klein deel van jezelf in alle negen typen te zien\, terwijl één ervan in
  het oog zou moeten springen als zijnde het dichtst bij jezelf. Dit is je 
 basispersoonlijkheidstype.\n\nHet enneagram gebruikt nummers om elk van de
  typen te benoemen\, omdat nummers waarde-neutraal zijn—ze impliceren he
 t hele bereik van attitudes en gedragingen van elk type\, zonder iets als 
 positief of negatief te omschrijven. In tegenstelling tot de benamingen di
 e in de psychiatrie gebruikt worden\, zijn nummers een onbevooroordeelde e
 n verkorte manier om een veelheid aan informatie over een persoon aan te d
 uiden\, zonder negatief te zijn.\n\nGeen enkel type is intrinsiek beter of
  slechter dan een ander. Terwijl alle persoonlijkheidstypen unieke sterke 
 en zwakke punten hebben\, zijn sommige typen vaak meer wenselijk dan ander
 e in een bepaalde cultuur of groep. Verder zou het kunnen zijn dat je er o
 m de een of andere reden niet gelukkig mee bent om een bepaald type te zij
 n. Je zou kunnen voelen dat jou type op de een of andere manier “gehandi
 capt” is. Als je meer leert over de typen\, zal je erachter komen dat ne
 t zoals elk type unieke capaciteiten heeft\, elk ook verschillende beperki
 ngen heeft. Wanneer sommige typen in de Westerse samenleving meer gewaarde
 erd worden dan andere\, dan is dat vanwege de kwaliteiten die de samenlevi
 ng beloond\, niet vanwege de een of andere superieure waarde van deze type
 n.\n\nHet ideaal is om het beste van jezelf te worden\, niet om de gunstig
 e eigenschappen van een ander type te imiteren.\nJe basispersoonlijkheidst
 ype vaststellen.\n\nje kan enneagram inzetten in je persoonlijk leven\, op
  je werk\, in je relatie ...\n\nVerschillende punten kunnen nog gemaakt wo
 rden over het basistype zelf.\n\n 	Mensen veranderen niet van het ene basi
 stype naar het andere.\n 	De beschrijvingen van de persoonlijkheidstypen z
 ijn universeel en gelden in gelijke mate voor zowel mannen als vrouwen\, o
 mdat geen enkel type intrinsiek mannelijk of vrouwelijk is.\n 	Niet alles 
 in de beschrijving van je basistype zal altijd op je van toepassing zijn\,
  omdat je continu fluctueert tussen de gezonde\, gemiddelde en ongezonde k
 araktertrekken waaruit je persoonlijkheidstype bestaat.\n 	Het enneagram g
 ebruikt nummers om elk van de typen te benoemen\, omdat nummers waarde-neu
 traal zijn—ze impliceren het hele bereik van attitudes en gedragingen va
 n elk type\, zonder iets als positief of negatief te omschrijven. In tegen
 stelling tot de benamingen die in de psychiatrie gebruikt worden\, zijn nu
 mmers een onbevooroordeelde en verkorte manier om een veelheid aan informa
 tie over een persoon aan te duiden\, zonder negatief te zijn.\n 	De numeri
 eke volgorde van de typen is zonder betekenis. Een hoger nummer is niet be
 ter dan een kleiner nummer\; het is niet beter om een Negen te zijn dan ee
 n Twee omdat negen een hoger nummer is.\n 	Geen enkel type is intrinsiek b
 eter of slechter dan een ander. Terwijl alle persoonlijkheidstypen unieke 
 sterke en zwakke punten hebben\, zijn sommige typen vaak meer wenselijk da
 n andere in een bepaalde cultuur of groep. Verder zou het kunnen zijn dat 
 je er om de een of andere reden niet gelukkig mee bent om een bepaald type
  te zijn. Je zou kunnen voelen dat jou type op de een of andere manier "ge
 handicapt" is. Als je meer leert over de typen\, zul je erachter komen dat
  net zoals elk type unieke capaciteiten heeft\, elk ook verschillende bepe
 rkingen heeft. Wanneer sommige typen in de Westerse samenleving meer gewaa
 rdeerd worden dan andere\, dan is dat vanwege de kwaliteiten die de samenl
 eving beloond\, niet vanwege de een of andere superieure waarde van deze t
 ypen. Het ideaal is om het beste van jezelf te worden\, niet om de gunstig
 e eigenschappen van een ander type te imiteren.\n\nAls je over je persoonl
 ijkheid nadenkt\, welke van de volgende negen rollen past je dan het best 
 voor het grootste deel van de tijd? Of\, met andere woorden\, als je jezel
 f zou beschrijven in een paar woorden\, welke van de volgende woordgroepen
  zou het dichtst bij komen?\n\nDeze indicators van één woord kunnen word
 en uitgebreid tot sets met karaktertrekken van vier woorden. Houd in gedac
 hten dat deze slechts opvallende kenmerken zijn\, en niet het volledige sp
 ectrum van ieder type representeren.\n\n\nType Een is principieel\, doelge
 richt\, zelfbeheerst en perfectionistisch.\n\nType Twee is gul\, demonstra
 tief\, behagend en bezitterig.\n\nType Drie is aanpassend\, excellerend\, 
 gedreven en imago-bewust.\n\nType Vier is expressief\, dramatisch\, in zic
 hzelf gekeerd en temperamentvol.\n\nType Vijf is opmerkzaam\, innovatief\,
  gesloten en geïsoleerd.\n\nType Zes is innemend\, verantwoordelijk\, ang
 stig en wantrouwend.\n\nType Zeven is spontaan\, veelzijdig\, hebzuchtig e
 n verstrooid.\n\nType Acht is zelfverzekerd\, beslist\, wilskrachtig en co
 nfronterend.\n\nType Negen is ontvankelijk\, geruststellend\, inschikkelij
 k en onverschillig.
CATEGORIES:coaching,Deel van een beroepsopleiding,Persoonlijke
 ontwikkeling,Workshop communicatie en psychologie bij mensen
LOCATION:Toscanzahoeve\, Milisstichel\, Aarschot\, Vlaams Brabant\, 3201\, 
 België
X-APPLE-STRUCTURED-LOCATION;VALUE=URI;X-ADDRESS=Milisstichel\, Aarschot\, V
 laams Brabant\, 3201\, België;X-APPLE-RADIUS=100;X-TITLE=Toscanzahoeve:ge
 o:0,0
END:VEVENT
BEGIN:VTIMEZONE
TZID:Europe/Brussels
X-LIC-LOCATION:Europe/Brussels
BEGIN:STANDARD
DTSTART:20261025T020000
TZOFFSETFROM:+0200
TZOFFSETTO:+0100
TZNAME:CET
END:STANDARD
END:VTIMEZONE
END:VCALENDAR